BEGIN:VCALENDAR
VERSION:2.0
PRODID:-//DIOCESI DI ROMA - ECPv4.6.14.1//NONSGML v1.0//EN
CALSCALE:GREGORIAN
METHOD:PUBLISH
X-WR-CALNAME:DIOCESI DI ROMA
X-ORIGINAL-URL:https://www.diocesidiroma.it
X-WR-CALDESC:Eventi per DIOCESI DI ROMA
BEGIN:VEVENT
DTSTART;TZID=Europe/Rome:20251010T100000
DTEND;TZID=Europe/Rome:20251010T120000
DTSTAMP:20260421T103347
CREATED:20251003T110147Z
LAST-MODIFIED:20251003T110212Z
UID:37646-1760090400-1760097600@www.diocesidiroma.it
SUMMARY:Udienze
DESCRIPTION:Udienze \n
URL:https://www.diocesidiroma.it/event/udienze-100/
CATEGORIES:Vicario Generale
END:VEVENT
END:VCALENDAR