BEGIN:VCALENDAR
VERSION:2.0
PRODID:-//DIOCESI DI ROMA - ECPv4.6.14.1//NONSGML v1.0//EN
CALSCALE:GREGORIAN
METHOD:PUBLISH
X-WR-CALNAME:DIOCESI DI ROMA
X-ORIGINAL-URL:https://www.diocesidiroma.it
X-WR-CALDESC:Eventi per DIOCESI DI ROMA
BEGIN:VEVENT
DTSTART;TZID=Europe/Rome:20251013T100000
DTEND;TZID=Europe/Rome:20251013T130000
DTSTAMP:20260421T181503
CREATED:20251010T063950Z
LAST-MODIFIED:20251010T063950Z
UID:37711-1760349600-1760360400@www.diocesidiroma.it
SUMMARY:Udienze
DESCRIPTION:Udienze \n
URL:https://www.diocesidiroma.it/event/udienze-101/
CATEGORIES:Vicario Generale
END:VEVENT
END:VCALENDAR