BEGIN:VCALENDAR
VERSION:2.0
PRODID:-//DIOCESI DI ROMA - ECPv4.6.14.1//NONSGML v1.0//EN
CALSCALE:GREGORIAN
METHOD:PUBLISH
X-WR-CALNAME:DIOCESI DI ROMA
X-ORIGINAL-URL:https://www.diocesidiroma.it
X-WR-CALDESC:Eventi per DIOCESI DI ROMA
BEGIN:VEVENT
DTSTART;TZID=Europe/Rome:20251020T153000
DTEND;TZID=Europe/Rome:20251020T200000
DTSTAMP:20260421T181431
CREATED:20251017T094525Z
LAST-MODIFIED:20251017T095015Z
UID:37940-1760974200-1760990400@www.diocesidiroma.it
SUMMARY:Udienze
DESCRIPTION:Udienze \n
URL:https://www.diocesidiroma.it/event/udienze-104/
CATEGORIES:Vicario Generale
END:VEVENT
END:VCALENDAR