BEGIN:VCALENDAR
VERSION:2.0
PRODID:-//DIOCESI DI ROMA - ECPv4.6.14.1//NONSGML v1.0//EN
CALSCALE:GREGORIAN
METHOD:PUBLISH
X-WR-CALNAME:DIOCESI DI ROMA
X-ORIGINAL-URL:https://www.diocesidiroma.it
X-WR-CALDESC:Eventi per DIOCESI DI ROMA
BEGIN:VEVENT
DTSTART;TZID=Europe/Rome:20251024T120000
DTEND;TZID=Europe/Rome:20251024T140000
DTSTAMP:20260421T115435
CREATED:20251024T102650Z
LAST-MODIFIED:20251024T102650Z
UID:38182-1761307200-1761314400@www.diocesidiroma.it
SUMMARY:Udienze
DESCRIPTION:Udienze \n
URL:https://www.diocesidiroma.it/event/udienze-111/
CATEGORIES:Vicario Generale
END:VEVENT
END:VCALENDAR