BEGIN:VCALENDAR
VERSION:2.0
PRODID:-//DIOCESI DI ROMA - ECPv4.6.14.1//NONSGML v1.0//EN
CALSCALE:GREGORIAN
METHOD:PUBLISH
X-WR-CALNAME:DIOCESI DI ROMA
X-ORIGINAL-URL:https://www.diocesidiroma.it
X-WR-CALDESC:Eventi per DIOCESI DI ROMA
BEGIN:VEVENT
DTSTART;TZID=Europe/Rome:20251112T090000
DTEND;TZID=Europe/Rome:20251112T120000
DTSTAMP:20260423T162716
CREATED:20251107T105550Z
LAST-MODIFIED:20251107T110705Z
UID:38447-1762938000-1762948800@www.diocesidiroma.it
SUMMARY:Udienze
DESCRIPTION:Udienze  \n
URL:https://www.diocesidiroma.it/event/udienze-113/
CATEGORIES:Vicario Generale
END:VEVENT
END:VCALENDAR