BEGIN:VCALENDAR
VERSION:2.0
PRODID:-//DIOCESI DI ROMA - ECPv4.6.14.1//NONSGML v1.0//EN
CALSCALE:GREGORIAN
METHOD:PUBLISH
X-WR-CALNAME:DIOCESI DI ROMA
X-ORIGINAL-URL:https://www.diocesidiroma.it
X-WR-CALDESC:Eventi per DIOCESI DI ROMA
BEGIN:VEVENT
DTSTART;TZID=Europe/Rome:20251211T083000
DTEND;TZID=Europe/Rome:20251211T100000
DTSTAMP:20260423T070316
CREATED:20251206T122045Z
LAST-MODIFIED:20251206T123843Z
UID:38968-1765441800-1765447200@www.diocesidiroma.it
SUMMARY:Udienze
DESCRIPTION:Udienze \n
URL:https://www.diocesidiroma.it/event/udienze-121/
CATEGORIES:Vicario Generale
END:VEVENT
END:VCALENDAR