BEGIN:VCALENDAR
VERSION:2.0
PRODID:-//DIOCESI DI ROMA - ECPv4.6.14.1//NONSGML v1.0//EN
CALSCALE:GREGORIAN
METHOD:PUBLISH
X-WR-CALNAME:DIOCESI DI ROMA
X-ORIGINAL-URL:https://www.diocesidiroma.it
X-WR-CALDESC:Eventi per DIOCESI DI ROMA
BEGIN:VEVENT
DTSTART;TZID=Europe/Rome:20251218T083000
DTEND;TZID=Europe/Rome:20251218T113000
DTSTAMP:20260422T105039
CREATED:20251212T134410Z
LAST-MODIFIED:20251212T134410Z
UID:39067-1766046600-1766057400@www.diocesidiroma.it
SUMMARY:Udienze
DESCRIPTION:Udienze \n
URL:https://www.diocesidiroma.it/event/udienze-124/
CATEGORIES:Vicario Generale
END:VEVENT
END:VCALENDAR