BEGIN:VCALENDAR
VERSION:2.0
PRODID:-//DIOCESI DI ROMA - ECPv4.6.14.1//NONSGML v1.0//EN
CALSCALE:GREGORIAN
METHOD:PUBLISH
X-WR-CALNAME:DIOCESI DI ROMA
X-ORIGINAL-URL:https://www.diocesidiroma.it
X-WR-CALDESC:Eventi per DIOCESI DI ROMA
BEGIN:VEVENT
DTSTART;TZID=Europe/Rome:20260114T083000
DTEND;TZID=Europe/Rome:20260114T120000
DTSTAMP:20260422T053508
CREATED:20260109T082237Z
LAST-MODIFIED:20260109T082237Z
UID:39384-1768379400-1768392000@www.diocesidiroma.it
SUMMARY:Udienze
DESCRIPTION:Udienze \n
URL:https://www.diocesidiroma.it/event/udienze-127/
CATEGORIES:Vicario Generale
END:VEVENT
END:VCALENDAR