BEGIN:VCALENDAR
VERSION:2.0
PRODID:-//DIOCESI DI ROMA - ECPv4.6.14.1//NONSGML v1.0//EN
CALSCALE:GREGORIAN
METHOD:PUBLISH
X-WR-CALNAME:DIOCESI DI ROMA
X-ORIGINAL-URL:https://www.diocesidiroma.it
X-WR-CALDESC:Eventi per DIOCESI DI ROMA
BEGIN:VEVENT
DTSTART;TZID=Europe/Rome:20241216T093000
DTEND;TZID=Europe/Rome:20241216T093000
DTSTAMP:20260422T094518
CREATED:20241216T073843Z
LAST-MODIFIED:20241216T073843Z
UID:32546-1734341400-1734341400@www.diocesidiroma.it
SUMMARY:Udienze
DESCRIPTION:Udienze \n
URL:https://www.diocesidiroma.it/event/udienze-13/
CATEGORIES:Vicario Generale
END:VEVENT
END:VCALENDAR