BEGIN:VCALENDAR
VERSION:2.0
PRODID:-//DIOCESI DI ROMA - ECPv4.6.14.1//NONSGML v1.0//EN
CALSCALE:GREGORIAN
METHOD:PUBLISH
X-WR-CALNAME:DIOCESI DI ROMA
X-ORIGINAL-URL:https://www.diocesidiroma.it
X-WR-CALDESC:Eventi per DIOCESI DI ROMA
BEGIN:VEVENT
DTSTART;TZID=Europe/Rome:20260129T080000
DTEND;TZID=Europe/Rome:20260129T093000
DTSTAMP:20260421T175847
CREATED:20260123T100544Z
LAST-MODIFIED:20260123T100544Z
UID:39607-1769673600-1769679000@www.diocesidiroma.it
SUMMARY:Udienze
DESCRIPTION:Udienze \n
URL:https://www.diocesidiroma.it/event/udienze-133/
CATEGORIES:Vicario Generale
END:VEVENT
END:VCALENDAR