BEGIN:VCALENDAR
VERSION:2.0
PRODID:-//DIOCESI DI ROMA - ECPv4.6.14.1//NONSGML v1.0//EN
CALSCALE:GREGORIAN
METHOD:PUBLISH
X-WR-CALNAME:DIOCESI DI ROMA
X-ORIGINAL-URL:https://www.diocesidiroma.it
X-WR-CALDESC:Eventi per DIOCESI DI ROMA
BEGIN:VEVENT
DTSTART;TZID=Europe/Rome:20260227T150000
DTEND;TZID=Europe/Rome:20260227T180000
DTSTAMP:20260421T120142
CREATED:20260219T093624Z
LAST-MODIFIED:20260219T093624Z
UID:40062-1772204400-1772215200@www.diocesidiroma.it
SUMMARY:Udienze
DESCRIPTION:Udienze \n
URL:https://www.diocesidiroma.it/event/udienze-151/
CATEGORIES:Vicario Generale
END:VEVENT
END:VCALENDAR