BEGIN:VCALENDAR
VERSION:2.0
PRODID:-//DIOCESI DI ROMA - ECPv4.6.14.1//NONSGML v1.0//EN
CALSCALE:GREGORIAN
METHOD:PUBLISH
X-WR-CALNAME:DIOCESI DI ROMA
X-ORIGINAL-URL:https://www.diocesidiroma.it
X-WR-CALDESC:Eventi per DIOCESI DI ROMA
BEGIN:VEVENT
DTSTART;TZID=Europe/Rome:20260302T120000
DTEND;TZID=Europe/Rome:20260302T130000
DTSTAMP:20260421T070521
CREATED:20260226T104433Z
LAST-MODIFIED:20260226T104433Z
UID:40191-1772452800-1772456400@www.diocesidiroma.it
SUMMARY:Udienze
DESCRIPTION:Udienze \n
URL:https://www.diocesidiroma.it/event/udienze-152/
CATEGORIES:Vicario Generale
END:VEVENT
END:VCALENDAR