BEGIN:VCALENDAR
VERSION:2.0
PRODID:-//DIOCESI DI ROMA - ECPv4.6.14.1//NONSGML v1.0//EN
CALSCALE:GREGORIAN
METHOD:PUBLISH
X-WR-CALNAME:DIOCESI DI ROMA
X-ORIGINAL-URL:https://www.diocesidiroma.it
X-WR-CALDESC:Eventi per DIOCESI DI ROMA
BEGIN:VEVENT
DTSTART;TZID=Europe/Rome:20260326T083000
DTEND;TZID=Europe/Rome:20260326T100000
DTSTAMP:20260421T085132
CREATED:20260320T112719Z
LAST-MODIFIED:20260320T112829Z
UID:40638-1774513800-1774519200@www.diocesidiroma.it
SUMMARY:Udienze
DESCRIPTION:Udienze  \n
URL:https://www.diocesidiroma.it/event/udienze-158/
CATEGORIES:Vicario Generale
END:VEVENT
END:VCALENDAR