BEGIN:VCALENDAR
VERSION:2.0
PRODID:-//DIOCESI DI ROMA - ECPv4.6.14.1//NONSGML v1.0//EN
CALSCALE:GREGORIAN
METHOD:PUBLISH
X-WR-CALNAME:DIOCESI DI ROMA
X-ORIGINAL-URL:https://www.diocesidiroma.it
X-WR-CALDESC:Eventi per DIOCESI DI ROMA
BEGIN:VEVENT
DTSTART;TZID=Europe/Rome:20260401T090000
DTEND;TZID=Europe/Rome:20260401T090000
DTSTAMP:20260421T052503
CREATED:20260330T060434Z
LAST-MODIFIED:20260330T060524Z
UID:40737-1775034000-1775034000@www.diocesidiroma.it
SUMMARY:Udienze
DESCRIPTION:Udienze \n
URL:https://www.diocesidiroma.it/event/udienze-163/
CATEGORIES:Vicario Generale
END:VEVENT
END:VCALENDAR