BEGIN:VCALENDAR
VERSION:2.0
PRODID:-//DIOCESI DI ROMA - ECPv4.6.14.1//NONSGML v1.0//EN
CALSCALE:GREGORIAN
METHOD:PUBLISH
X-WR-CALNAME:DIOCESI DI ROMA
X-ORIGINAL-URL:https://www.diocesidiroma.it
X-WR-CALDESC:Eventi per DIOCESI DI ROMA
BEGIN:VEVENT
DTSTART;TZID=Europe/Rome:20260417T083000
DTEND;TZID=Europe/Rome:20260417T123000
DTSTAMP:20260421T034710
CREATED:20260330T070101Z
LAST-MODIFIED:20260410T064339Z
UID:40781-1776414600-1776429000@www.diocesidiroma.it
SUMMARY:Udienze
DESCRIPTION:Udienze \n
URL:https://www.diocesidiroma.it/event/udienze-167/
CATEGORIES:Vicario Generale
END:VEVENT
END:VCALENDAR