BEGIN:VCALENDAR
VERSION:2.0
PRODID:-//DIOCESI DI ROMA - ECPv4.6.14.1//NONSGML v1.0//EN
CALSCALE:GREGORIAN
METHOD:PUBLISH
X-WR-CALNAME:DIOCESI DI ROMA
X-ORIGINAL-URL:https://www.diocesidiroma.it
X-WR-CALDESC:Eventi per DIOCESI DI ROMA
BEGIN:VEVENT
DTSTART;TZID=Europe/Rome:20260422T083000
DTEND;TZID=Europe/Rome:20260422T130000
DTSTAMP:20260421T052502
CREATED:20260416T111036Z
LAST-MODIFIED:20260416T111036Z
UID:40949-1776846600-1776862800@www.diocesidiroma.it
SUMMARY:Udienze
DESCRIPTION:Udienze \n
URL:https://www.diocesidiroma.it/event/udienze-168/
CATEGORIES:Vicario Generale
END:VEVENT
END:VCALENDAR