BEGIN:VCALENDAR
VERSION:2.0
PRODID:-//DIOCESI DI ROMA - ECPv4.6.14.1//NONSGML v1.0//EN
CALSCALE:GREGORIAN
METHOD:PUBLISH
X-WR-CALNAME:DIOCESI DI ROMA
X-ORIGINAL-URL:https://www.diocesidiroma.it
X-WR-CALDESC:Eventi per DIOCESI DI ROMA
BEGIN:VEVENT
DTSTART;TZID=Europe/Rome:20250219T080000
DTEND;TZID=Europe/Rome:20250219T110000
DTSTAMP:20260425T034653
CREATED:20250214T112545Z
LAST-MODIFIED:20250214T112545Z
UID:33920-1739952000-1739962800@www.diocesidiroma.it
SUMMARY:Udienze
DESCRIPTION:Udienze \n
URL:https://www.diocesidiroma.it/event/udienze-32/
CATEGORIES:Vicario Generale
END:VEVENT
END:VCALENDAR