BEGIN:VCALENDAR
VERSION:2.0
PRODID:-//DIOCESI DI ROMA - ECPv4.6.14.1//NONSGML v1.0//EN
CALSCALE:GREGORIAN
METHOD:PUBLISH
X-WR-CALNAME:DIOCESI DI ROMA
X-ORIGINAL-URL:https://www.diocesidiroma.it
X-WR-CALDESC:Eventi per DIOCESI DI ROMA
BEGIN:VEVENT
DTSTART;TZID=Europe/Rome:20250322T090000
DTEND;TZID=Europe/Rome:20250322T110000
DTSTAMP:20260420T205734
CREATED:20250314T111058Z
LAST-MODIFIED:20250314T111058Z
UID:34493-1742634000-1742641200@www.diocesidiroma.it
SUMMARY:Udienze
DESCRIPTION:Udienze \n
URL:https://www.diocesidiroma.it/event/udienze-48/
CATEGORIES:Vicario Generale
END:VEVENT
END:VCALENDAR