BEGIN:VCALENDAR
VERSION:2.0
PRODID:-//DIOCESI DI ROMA - ECPv4.6.14.1//NONSGML v1.0//EN
CALSCALE:GREGORIAN
METHOD:PUBLISH
X-WR-CALNAME:DIOCESI DI ROMA
X-ORIGINAL-URL:https://www.diocesidiroma.it
X-WR-CALDESC:Eventi per DIOCESI DI ROMA
BEGIN:VEVENT
DTSTART;TZID=Europe/Rome:20250414T100000
DTEND;TZID=Europe/Rome:20250414T120000
DTSTAMP:20260421T090853
CREATED:20250410T113001Z
LAST-MODIFIED:20250410T113001Z
UID:35081-1744624800-1744632000@www.diocesidiroma.it
SUMMARY:Udienze
DESCRIPTION:Udienze \n
URL:https://www.diocesidiroma.it/event/udienze-59/
CATEGORIES:Vicario Generale
END:VEVENT
END:VCALENDAR