BEGIN:VCALENDAR
VERSION:2.0
PRODID:-//DIOCESI DI ROMA - ECPv4.6.14.1//NONSGML v1.0//EN
CALSCALE:GREGORIAN
METHOD:PUBLISH
X-WR-CALNAME:DIOCESI DI ROMA
X-ORIGINAL-URL:https://www.diocesidiroma.it
X-WR-CALDESC:Eventi per DIOCESI DI ROMA
BEGIN:VEVENT
DTSTART;TZID=Europe/Rome:20250523T100000
DTEND;TZID=Europe/Rome:20250523T100000
DTSTAMP:20260422T094519
CREATED:20250516T115408Z
LAST-MODIFIED:20250516T115408Z
UID:35690-1747994400-1747994400@www.diocesidiroma.it
SUMMARY:Udienze
DESCRIPTION:Udienze \n
URL:https://www.diocesidiroma.it/event/udienze-65/
CATEGORIES:Vicario Generale
END:VEVENT
END:VCALENDAR