BEGIN:VCALENDAR
VERSION:2.0
PRODID:-//DIOCESI DI ROMA - ECPv4.6.14.1//NONSGML v1.0//EN
CALSCALE:GREGORIAN
METHOD:PUBLISH
X-WR-CALNAME:DIOCESI DI ROMA
X-ORIGINAL-URL:https://www.diocesidiroma.it
X-WR-CALDESC:Eventi per DIOCESI DI ROMA
BEGIN:VEVENT
DTSTART;TZID=Europe/Rome:20250602T153000
DTEND;TZID=Europe/Rome:20250602T190000
DTSTAMP:20260423T004843
CREATED:20250530T090836Z
LAST-MODIFIED:20250530T090836Z
UID:35876-1748878200-1748890800@www.diocesidiroma.it
SUMMARY:Udienze
DESCRIPTION:Udienze \n
URL:https://www.diocesidiroma.it/event/udienze-71/
CATEGORIES:Vicario Generale
END:VEVENT
END:VCALENDAR