BEGIN:VCALENDAR
VERSION:2.0
PRODID:-//DIOCESI DI ROMA - ECPv4.6.14.1//NONSGML v1.0//EN
CALSCALE:GREGORIAN
METHOD:PUBLISH
X-WR-CALNAME:DIOCESI DI ROMA
X-ORIGINAL-URL:https://www.diocesidiroma.it
X-WR-CALDESC:Eventi per DIOCESI DI ROMA
BEGIN:VEVENT
DTSTART;TZID=Europe/Rome:20250611T083000
DTEND;TZID=Europe/Rome:20250611T130000
DTSTAMP:20260423T004706
CREATED:20250605T094121Z
LAST-MODIFIED:20250605T094121Z
UID:35973-1749630600-1749646800@www.diocesidiroma.it
SUMMARY:Udienze
DESCRIPTION:Udienze \n
URL:https://www.diocesidiroma.it/event/udienze-76/
CATEGORIES:Vicario Generale
END:VEVENT
END:VCALENDAR