BEGIN:VCALENDAR
VERSION:2.0
PRODID:-//DIOCESI DI ROMA - ECPv4.6.14.1//NONSGML v1.0//EN
CALSCALE:GREGORIAN
METHOD:PUBLISH
X-WR-CALNAME:DIOCESI DI ROMA
X-ORIGINAL-URL:https://www.diocesidiroma.it
X-WR-CALDESC:Eventi per DIOCESI DI ROMA
BEGIN:VEVENT
DTSTART;TZID=Europe/Rome:20251003T103000
DTEND;TZID=Europe/Rome:20251003T130000
DTSTAMP:20260421T120210
CREATED:20250926T091419Z
LAST-MODIFIED:20250926T091419Z
UID:37416-1759487400-1759496400@www.diocesidiroma.it
SUMMARY:Udienze
DESCRIPTION:Udienze \n
URL:https://www.diocesidiroma.it/event/udienze-96/
CATEGORIES:Vicario Generale
END:VEVENT
END:VCALENDAR