BEGIN:VCALENDAR
VERSION:2.0
PRODID:-//DIOCESI DI ROMA - ECPv4.6.14.1//NONSGML v1.0//EN
CALSCALE:GREGORIAN
METHOD:PUBLISH
X-WR-CALNAME:DIOCESI DI ROMA
X-ORIGINAL-URL:https://www.diocesidiroma.it
X-WR-CALDESC:Eventi per DIOCESI DI ROMA
BEGIN:VEVENT
DTSTART;TZID=Europe/Rome:20251007T110000
DTEND;TZID=Europe/Rome:20251007T130000
DTSTAMP:20260421T003723
CREATED:20251003T105225Z
LAST-MODIFIED:20251003T105225Z
UID:37628-1759834800-1759842000@www.diocesidiroma.it
SUMMARY:Udienze
DESCRIPTION:Udienze \n
URL:https://www.diocesidiroma.it/event/udienze-98/
CATEGORIES:Vicario Generale
END:VEVENT
END:VCALENDAR