BEGIN:VCALENDAR
VERSION:2.0
PRODID:-//DIOCESI DI ROMA - ECPv4.6.14.1//NONSGML v1.0//EN
CALSCALE:GREGORIAN
METHOD:PUBLISH
X-WR-CALNAME:DIOCESI DI ROMA
X-ORIGINAL-URL:https://www.diocesidiroma.it
X-WR-CALDESC:Eventi per DIOCESI DI ROMA
BEGIN:VEVENT
DTSTART;TZID=Europe/Rome:20250526T160000
DTEND;TZID=Europe/Rome:20250526T200000
DTSTAMP:20260424T121317
CREATED:20250523T090859Z
LAST-MODIFIED:20250523T090859Z
UID:35768-1748275200-1748289600@www.diocesidiroma.it
SUMMARY:Udienze in Seminario
DESCRIPTION:Udienze in Seminario \n
URL:https://www.diocesidiroma.it/event/udienze-in-seminario/
CATEGORIES:Vicario Generale
END:VEVENT
END:VCALENDAR