BEGIN:VCALENDAR
VERSION:2.0
PRODID:-//DIOCESI DI ROMA - ECPv4.6.14.1//NONSGML v1.0//EN
CALSCALE:GREGORIAN
METHOD:PUBLISH
X-WR-CALNAME:DIOCESI DI ROMA
X-ORIGINAL-URL:https://www.diocesidiroma.it
X-WR-CALDESC:Eventi per DIOCESI DI ROMA
BEGIN:VEVENT
DTSTART;TZID=Europe/Rome:20260328T100000
DTEND;TZID=Europe/Rome:20260328T120000
DTSTAMP:20260420T224554
CREATED:20260320T113314Z
LAST-MODIFIED:20260320T113314Z
UID:40654-1774692000-1774699200@www.diocesidiroma.it
SUMMARY:Udienze presso il Pontificio Seminario Romano Maggiore
DESCRIPTION:Udienze presso il Pontificio Seminario Romano Maggiore \n
URL:https://www.diocesidiroma.it/event/udienze-presso-il-pontificio-seminario-romano-maggiore-2/
CATEGORIES:Vicario Generale
END:VEVENT
END:VCALENDAR