BEGIN:VCALENDAR
VERSION:2.0
PRODID:-//DIOCESI DI ROMA - ECPv4.6.14.1//NONSGML v1.0//EN
CALSCALE:GREGORIAN
METHOD:PUBLISH
X-WR-CALNAME:DIOCESI DI ROMA
X-ORIGINAL-URL:https://www.diocesidiroma.it
X-WR-CALDESC:Eventi per DIOCESI DI ROMA
BEGIN:VEVENT
DTSTART;TZID=Europe/Rome:20231118T163000
DTEND;TZID=Europe/Rome:20231118T180000
DTSTAMP:20260421T075807
CREATED:20231006T091711Z
LAST-MODIFIED:20231006T091711Z
UID:27552-1700325000-1700330400@www.diocesidiroma.it
SUMMARY:"Una donna forte chi potrà trovarla? Ben superiore alle perle è il suo valore" (Pr 31\,10): percorso per giovani ragazze sul carisma/vocazione della femminilità\, in collaborazione con le monache agostiniane e la  Dott.ssa Vittoria Lugli - Monastero dei SS. Quattro Coronati (Uff. vocazioni)
DESCRIPTION:“Una donna forte chi potrà trovarla? Ben superiore alle perle è il suo valore” (Pr 31\,10): percorso per giovani ragazze sul carisma/vocazione della femminilità\, in collaborazione con le monache agostiniane e la  Dott.ssa Vittoria Lugli – Monastero dei SS. Quattro Coronati (Uff. vocazioni) \n
URL:https://www.diocesidiroma.it/event/una-donna-forte-chi-potra-trovarla-ben-superiore-alle-perle-e-il-suo-valore-pr-3110-percorso-per-giovani-ragazze-sul-carisma-vocazione-della-femminilita-in-collaborazione-con-le-monache-agos/
CATEGORIES:In Diocesi,Iniziative degli Uffici
END:VEVENT
END:VCALENDAR