BEGIN:VCALENDAR
VERSION:2.0
PRODID:-//DIOCESI DI ROMA - ECPv4.6.14.1//NONSGML v1.0//EN
CALSCALE:GREGORIAN
METHOD:PUBLISH
X-WR-CALNAME:DIOCESI DI ROMA
X-ORIGINAL-URL:https://www.diocesidiroma.it
X-WR-CALDESC:Eventi per DIOCESI DI ROMA
BEGIN:VEVENT
DTSTART;VALUE=DATE:20180429
DTEND;VALUE=DATE:20180430
DTSTAMP:20260425T170800
CREATED:20171228T135807Z
LAST-MODIFIED:20171228T135807Z
UID:679-1524960000-1525046399@www.diocesidiroma.it
SUMMARY:V DOMENICA DI PASQUA
DESCRIPTION:
URL:https://www.diocesidiroma.it/event/v-domenica-di-pasqua/
CATEGORIES:Ricorrenze
END:VEVENT
END:VCALENDAR