BEGIN:VCALENDAR
VERSION:2.0
PRODID:-//DIOCESI DI ROMA - ECPv4.6.14.1//NONSGML v1.0//EN
CALSCALE:GREGORIAN
METHOD:PUBLISH
X-WR-CALNAME:DIOCESI DI ROMA
X-ORIGINAL-URL:https://www.diocesidiroma.it
X-WR-CALDESC:Eventi per DIOCESI DI ROMA
BEGIN:VEVENT
DTSTART;TZID=Europe/Rome:20190412T163000
DTEND;TZID=Europe/Rome:20190412T163000
DTSTAMP:20260422T101326
CREATED:20181011T090203Z
LAST-MODIFIED:20181011T090203Z
UID:5077-1555086600-1555086600@www.diocesidiroma.it
SUMMARY:Vai Crucis con i detenuti del carcere di Rebibbia
DESCRIPTION:Vai Crucis con i detenuti del carcere di Rebibbia\, a cura della Caritas di Roma. \n
URL:https://www.diocesidiroma.it/event/vai-crucis-con-i-detenuti-del-carcere-di-rebibbia/
CATEGORIES:Caritas
END:VEVENT
END:VCALENDAR