BEGIN:VCALENDAR
VERSION:2.0
PRODID:-//DIOCESI DI ROMA - ECPv4.6.14.1//NONSGML v1.0//EN
CALSCALE:GREGORIAN
METHOD:PUBLISH
X-WR-CALNAME:DIOCESI DI ROMA
X-ORIGINAL-URL:https://www.diocesidiroma.it
X-WR-CALDESC:Eventi per DIOCESI DI ROMA
BEGIN:VEVENT
DTSTART;VALUE=DATE:20260201
DTEND;VALUE=DATE:20260202
DTSTAMP:20260423T114233
CREATED:20250912T080412Z
LAST-MODIFIED:20250912T080412Z
UID:37161-1769904000-1769990399@www.diocesidiroma.it
SUMMARY:Veglia con Vespri presso la Basilica di S. Giovanni in Laterano (Uff. per la Vita Consacrata)
DESCRIPTION:Veglia con Vespri presso la Basilica di S. Giovanni in Laterano (Uff. per la Vita Consacrata) \n
URL:https://www.diocesidiroma.it/event/veglia-con-vespri-presso-la-basilica-di-s-giovanni-in-laterano-uff-per-la-vita-consacrata/
CATEGORIES:In Diocesi
END:VEVENT
END:VCALENDAR