BEGIN:VCALENDAR
VERSION:2.0
PRODID:-//DIOCESI DI ROMA - ECPv4.6.14.1//NONSGML v1.0//EN
CALSCALE:GREGORIAN
METHOD:PUBLISH
X-WR-CALNAME:DIOCESI DI ROMA
X-ORIGINAL-URL:https://www.diocesidiroma.it
X-WR-CALDESC:Eventi per DIOCESI DI ROMA
BEGIN:VEVENT
DTSTART;VALUE=DATE:20180519
DTEND;VALUE=DATE:20180520
DTSTAMP:20260424T200221
CREATED:20180518T074726Z
LAST-MODIFIED:20180518T074726Z
UID:3094-1526688000-1526774399@www.diocesidiroma.it
SUMMARY:Veglia di Pentecoste dedicata alla vita consacrata
DESCRIPTION:Sabato 19 maggio alle 19 nella basilica di San Giovanni in Laterano l’arcivescovo Vicario Angelo De Donatis presiede la Veglia diocesana di Pentecoste dedicata in modo particolare alla vita consacrata \n
URL:https://www.diocesidiroma.it/event/veglia-di-pentecoste-dedicata-alla-vita-consacrata/
CATEGORIES:In Diocesi,Ricorrenze
END:VEVENT
END:VCALENDAR