BEGIN:VCALENDAR
VERSION:2.0
PRODID:-//DIOCESI DI ROMA - ECPv4.6.14.1//NONSGML v1.0//EN
CALSCALE:GREGORIAN
METHOD:PUBLISH
X-WR-CALNAME:DIOCESI DI ROMA
X-ORIGINAL-URL:https://www.diocesidiroma.it
X-WR-CALDESC:Eventi per DIOCESI DI ROMA
BEGIN:VEVENT
DTSTART;TZID=Europe/Rome:20230527T190000
DTEND;TZID=Europe/Rome:20230527T190000
DTSTAMP:20260425T113443
CREATED:20230502T074601Z
LAST-MODIFIED:20230502T074601Z
UID:26189-1685214000-1685214000@www.diocesidiroma.it
SUMMARY:Veglia di Pentecoste presieduta dal Cardinale Vicario - Basilica di San Giovanni in Laterano
DESCRIPTION:Veglia di Pentecoste presieduta dal Cardinale Vicario – Basilica di San Giovanni in Laterano  \n
URL:https://www.diocesidiroma.it/event/veglia-di-pentecoste-presieduta-dal-cardinale-vicario-basilica-di-san-giovanni-in-laterano/
CATEGORIES:In Diocesi
END:VEVENT
END:VCALENDAR