BEGIN:VCALENDAR
VERSION:2.0
PRODID:-//DIOCESI DI ROMA - ECPv4.6.14.1//NONSGML v1.0//EN
CALSCALE:GREGORIAN
METHOD:PUBLISH
X-WR-CALNAME:DIOCESI DI ROMA
X-ORIGINAL-URL:https://www.diocesidiroma.it
X-WR-CALDESC:Eventi per DIOCESI DI ROMA
BEGIN:VEVENT
DTSTART;TZID=Europe/Rome:20240319T190000
DTEND;TZID=Europe/Rome:20240319T190000
DTSTAMP:20260422T235137
CREATED:20240125T082937Z
LAST-MODIFIED:20240125T082937Z
UID:28690-1710874800-1710874800@www.diocesidiroma.it
SUMMARY:Veglia di preghiera per il mondo del lavoro - ore 19.00  (Uff. past. sociale)
DESCRIPTION:Veglia di preghiera per il mondo del lavoro (Uff. past. sociale) \n
URL:https://www.diocesidiroma.it/event/veglia-di-preghiera-per-il-mondo-del-lavoro-ore-19-00-uff-past-sociale/
CATEGORIES:Iniziative degli Uffici
END:VEVENT
END:VCALENDAR