BEGIN:VCALENDAR
VERSION:2.0
PRODID:-//DIOCESI DI ROMA - ECPv4.6.14.1//NONSGML v1.0//EN
CALSCALE:GREGORIAN
METHOD:PUBLISH
X-WR-CALNAME:DIOCESI DI ROMA
X-ORIGINAL-URL:https://www.diocesidiroma.it
X-WR-CALDESC:Eventi per DIOCESI DI ROMA
BEGIN:VEVENT
DTSTART;TZID=Europe/Rome:20260424T193000
DTEND;TZID=Europe/Rome:20260424T193000
DTSTAMP:20260423T215523
CREATED:20260416T111755Z
LAST-MODIFIED:20260416T111755Z
UID:40964-1777059000-1777059000@www.diocesidiroma.it
SUMMARY:Veglia di preghiera per le Vocazioni presso la Basilica di San Giovanni in Laterano
DESCRIPTION:Veglia di preghiera per le Vocazioni presso la Basilica di San Giovanni in Laterano \n
URL:https://www.diocesidiroma.it/event/veglia-di-preghiera-per-le-vocazioni-presso-la-basilica-di-san-giovanni-in-laterano/
CATEGORIES:Vicario Generale
END:VEVENT
END:VCALENDAR