BEGIN:VCALENDAR
VERSION:2.0
PRODID:-//DIOCESI DI ROMA - ECPv4.6.14.1//NONSGML v1.0//EN
CALSCALE:GREGORIAN
METHOD:PUBLISH
X-WR-CALNAME:DIOCESI DI ROMA
X-ORIGINAL-URL:https://www.diocesidiroma.it
X-WR-CALDESC:Eventi per DIOCESI DI ROMA
BEGIN:VEVENT
DTSTART;TZID=Europe/Rome:20201029T203000
DTEND;TZID=Europe/Rome:20201029T203000
DTSTAMP:20260422T060742
CREATED:20200917T090514Z
LAST-MODIFIED:20200917T090523Z
UID:11706-1604003400-1604003400@www.diocesidiroma.it
SUMMARY:Veglia diocesana per le missioni presieduta dal cardinale vicario nella basilica di San Giovanni in Laterano
DESCRIPTION:Veglia diocesana per le missioni presieduta dal cardinale vicario nella basilica di San Giovanni in Laterano. \n
URL:https://www.diocesidiroma.it/event/veglia-diocesana-per-le-missioni-presieduta-dal-cardinale-vicario-nella-basilica-di-san-giovanni-in-laterano/
CATEGORIES:In Diocesi
END:VEVENT
END:VCALENDAR