BEGIN:VCALENDAR
VERSION:2.0
PRODID:-//DIOCESI DI ROMA - ECPv4.6.14.1//NONSGML v1.0//EN
CALSCALE:GREGORIAN
METHOD:PUBLISH
X-WR-CALNAME:DIOCESI DI ROMA
X-ORIGINAL-URL:https://www.diocesidiroma.it
X-WR-CALDESC:Eventi per DIOCESI DI ROMA
BEGIN:VEVENT
DTSTART;VALUE=DATE:20260122
DTEND;VALUE=DATE:20260123
DTSTAMP:20260422T073540
CREATED:20250911T091448Z
LAST-MODIFIED:20250911T091448Z
UID:37123-1769040000-1769126399@www.diocesidiroma.it
SUMMARY:Veglia Ecumenica Diocesana (Uff. per l'ecumenismo\, il dialogo interreligioso e i nuovi culti)
DESCRIPTION:Veglia Ecumenica Diocesana (Uff. per l’ecumenismo\, il dialogo interreligioso e i nuovi culti) \n
URL:https://www.diocesidiroma.it/event/veglia-ecumenica-diocesana-uff-per-lecumenismo-il-dialogo-interreligioso-e-i-nuovi-culti/
CATEGORIES:Giornate di sensibilizzazione
END:VEVENT
END:VCALENDAR