BEGIN:VCALENDAR
VERSION:2.0
PRODID:-//DIOCESI DI ROMA - ECPv4.6.14.1//NONSGML v1.0//EN
CALSCALE:GREGORIAN
METHOD:PUBLISH
X-WR-CALNAME:DIOCESI DI ROMA
X-ORIGINAL-URL:https://www.diocesidiroma.it
X-WR-CALDESC:Eventi per DIOCESI DI ROMA
BEGIN:VEVENT
DTSTART;TZID=Europe/Rome:20221015T183000
DTEND;TZID=Europe/Rome:20221015T183000
DTSTAMP:20260421T010645
CREATED:20221013T105503Z
LAST-MODIFIED:20221013T105503Z
UID:23317-1665858600-1665858600@www.diocesidiroma.it
SUMMARY:Veglia missionaria diocesana a San Giovanni in Laterano
DESCRIPTION:Veglia missionaria diocesana a San Giovanni in Laterano \n
URL:https://www.diocesidiroma.it/event/veglia-missionaria-diocesana-a-san-giovanni-in-laterano/
CATEGORIES:In Diocesi
END:VEVENT
END:VCALENDAR