BEGIN:VCALENDAR
VERSION:2.0
PRODID:-//DIOCESI DI ROMA - ECPv4.6.14.1//NONSGML v1.0//EN
CALSCALE:GREGORIAN
METHOD:PUBLISH
X-WR-CALNAME:DIOCESI DI ROMA
X-ORIGINAL-URL:https://www.diocesidiroma.it
X-WR-CALDESC:Eventi per DIOCESI DI ROMA
BEGIN:VEVENT
DTSTART;VALUE=DATE:20260403
DTEND;VALUE=DATE:20260404
DTSTAMP:20260422T094448
CREATED:20251001T122816Z
LAST-MODIFIED:20251001T122816Z
UID:37562-1775174400-1775260799@www.diocesidiroma.it
SUMMARY:VENERDI' SANTO
DESCRIPTION:VENERDI’ SANTO  \n
URL:https://www.diocesidiroma.it/event/venerdi-santo-4/
CATEGORIES:Ricorrenze
END:VEVENT
END:VCALENDAR