BEGIN:VCALENDAR
VERSION:2.0
PRODID:-//DIOCESI DI ROMA - ECPv4.6.14.1//NONSGML v1.0//EN
CALSCALE:GREGORIAN
METHOD:PUBLISH
X-WR-CALNAME:DIOCESI DI ROMA
X-ORIGINAL-URL:https://www.diocesidiroma.it
X-WR-CALDESC:Eventi per DIOCESI DI ROMA
BEGIN:VEVENT
DTSTART;TZID=Europe/Rome:20241217T193000
DTEND;TZID=Europe/Rome:20241217T193000
DTSTAMP:20260421T223055
CREATED:20241216T074501Z
LAST-MODIFIED:20241216T074501Z
UID:32564-1734463800-1734463800@www.diocesidiroma.it
SUMMARY:Vespri a “Casa San Giuseppe”
DESCRIPTION:Vespri a “Casa San Giuseppe” \n
URL:https://www.diocesidiroma.it/event/vespri-a-casa-san-giuseppe/
CATEGORIES:Vicario Generale
END:VEVENT
END:VCALENDAR