BEGIN:VCALENDAR
VERSION:2.0
PRODID:-//DIOCESI DI ROMA - ECPv4.6.14.1//NONSGML v1.0//EN
CALSCALE:GREGORIAN
METHOD:PUBLISH
X-WR-CALNAME:DIOCESI DI ROMA
X-ORIGINAL-URL:https://www.diocesidiroma.it
X-WR-CALDESC:Eventi per DIOCESI DI ROMA
BEGIN:VEVENT
DTSTART;TZID=Europe/Rome:20191001T000000
DTEND;TZID=Europe/Rome:20191001T000000
DTSTAMP:20260424T163215
CREATED:20190916T082643Z
LAST-MODIFIED:20190916T082643Z
UID:8314-1569888000-1569888000@www.diocesidiroma.it
SUMMARY:Vespri celebrati dal Santo Padre per l'apertura del mese missionario straordinario
DESCRIPTION:Vespri celebrati dal Santo Padre per l’apertura del mese missionario straordinario\, nella basilica di San Pietro. \n
URL:https://www.diocesidiroma.it/event/vespri-celebrati-dal-santo-padre-per-lapertura-del-mese-missionario-straordinario/
CATEGORIES:Celebrazioni del Santo Padre
END:VEVENT
END:VCALENDAR