BEGIN:VCALENDAR
VERSION:2.0
PRODID:-//DIOCESI DI ROMA - ECPv4.6.14.1//NONSGML v1.0//EN
CALSCALE:GREGORIAN
METHOD:PUBLISH
X-WR-CALNAME:DIOCESI DI ROMA
X-ORIGINAL-URL:https://www.diocesidiroma.it
X-WR-CALDESC:Eventi per DIOCESI DI ROMA
BEGIN:VEVENT
DTSTART;TZID=Europe/Rome:20200125T000000
DTEND;TZID=Europe/Rome:20200125T000000
DTSTAMP:20260424T074600
CREATED:20190918T063720Z
LAST-MODIFIED:20190918T063720Z
UID:8643-1579910400-1579910400@www.diocesidiroma.it
SUMMARY:Vespri solenni presieduti dal Santo Padre a conclusione della Settimana di preghiera per l'unità dei cristiani nella basilica di San Paolo fuori le Mura
DESCRIPTION:Vespri solenni presieduti dal Santo Padre a conclusione della Settimana di preghiera per l’unità dei cristiani nella basilica di San Paolo fuori le Mura. \n
URL:https://www.diocesidiroma.it/event/vespri-solenni-presieduti-dal-santo-padre-a-conclusione-della-settimana-di-preghiera-per-lunita-dei-cristiani-nella-basilica-di-san-paolo-fuori-le-mura/
CATEGORIES:Celebrazioni del Santo Padre
END:VEVENT
END:VCALENDAR