BEGIN:VCALENDAR
VERSION:2.0
PRODID:-//DIOCESI DI ROMA - ECPv4.6.14.1//NONSGML v1.0//EN
CALSCALE:GREGORIAN
METHOD:PUBLISH
X-WR-CALNAME:DIOCESI DI ROMA
X-ORIGINAL-URL:https://www.diocesidiroma.it
X-WR-CALDESC:Eventi per DIOCESI DI ROMA
BEGIN:VEVENT
DTSTART;TZID=Europe/Rome:20191112T173000
DTEND;TZID=Europe/Rome:20191112T200000
DTSTAMP:20260422T070114
CREATED:20190917T110847Z
LAST-MODIFIED:20190917T110847Z
UID:8519-1573579800-1573588800@www.diocesidiroma.it
SUMMARY:VI Corso "Arte nelle chiese. Formazione per le guide turistiche"
DESCRIPTION:VI Corso “Arte nelle chiese. Formazione per le guide turistiche”\, presso la parrocchia di San Giovanni Battista dei Fiorentini\, a cura del Servizio cultura e università e dell’Ufficio confraternite. \n
URL:https://www.diocesidiroma.it/event/vi-corso-arte-nelle-chiese-formazione-per-le-guide-turistiche/
CATEGORIES:Iniziative degli Uffici
END:VEVENT
END:VCALENDAR