BEGIN:VCALENDAR
VERSION:2.0
PRODID:-//DIOCESI DI ROMA - ECPv4.6.14.1//NONSGML v1.0//EN
CALSCALE:GREGORIAN
METHOD:PUBLISH
X-WR-CALNAME:DIOCESI DI ROMA
X-ORIGINAL-URL:https://www.diocesidiroma.it
X-WR-CALDESC:Eventi per DIOCESI DI ROMA
BEGIN:VEVENT
DTSTART;VALUE=DATE:20260510
DTEND;VALUE=DATE:20260511
DTSTAMP:20260420T225959
CREATED:20251021T103357Z
LAST-MODIFIED:20251021T103357Z
UID:38081-1778371200-1778457599@www.diocesidiroma.it
SUMMARY:VI DOMENICA DI PASQUA
DESCRIPTION:VI DOMENICA DI PASQUA \n
URL:https://www.diocesidiroma.it/event/vi-domenica-di-pasqua-3/
CATEGORIES:Ricorrenze
END:VEVENT
END:VCALENDAR