BEGIN:VCALENDAR
VERSION:2.0
PRODID:-//DIOCESI DI ROMA - ECPv4.6.14.1//NONSGML v1.0//EN
CALSCALE:GREGORIAN
METHOD:PUBLISH
X-WR-CALNAME:DIOCESI DI ROMA
X-ORIGINAL-URL:https://www.diocesidiroma.it
X-WR-CALDESC:Eventi per DIOCESI DI ROMA
BEGIN:VEVENT
DTSTART;VALUE=DATE:20180506
DTEND;VALUE=DATE:20180507
DTSTAMP:20260424T161925
CREATED:20171228T140056Z
LAST-MODIFIED:20171228T140056Z
UID:689-1525564800-1525651199@www.diocesidiroma.it
SUMMARY:VI DOMENICA DI PASQUA
DESCRIPTION:
URL:https://www.diocesidiroma.it/event/vi-domenica-di-pasqua/
CATEGORIES:Ricorrenze
END:VEVENT
END:VCALENDAR