BEGIN:VCALENDAR
VERSION:2.0
PRODID:-//DIOCESI DI ROMA - ECPv4.6.14.1//NONSGML v1.0//EN
CALSCALE:GREGORIAN
METHOD:PUBLISH
X-WR-CALNAME:DIOCESI DI ROMA
X-ORIGINAL-URL:https://www.diocesidiroma.it
X-WR-CALDESC:Eventi per DIOCESI DI ROMA
BEGIN:VEVENT
DTSTART;TZID=Europe/Rome:20240329T000000
DTEND;TZID=Europe/Rome:20240329T000000
DTSTAMP:20260424T113333
CREATED:20240125T083547Z
LAST-MODIFIED:20240125T083547Z
UID:28703-1711670400-1711670400@www.diocesidiroma.it
SUMMARY:Via Crucis al Colosseo
DESCRIPTION:Via Crucis al Colosseo \n
URL:https://www.diocesidiroma.it/event/via-crucis-al-colosseo-2/
CATEGORIES:Celebrazioni del Santo Padre
END:VEVENT
END:VCALENDAR