BEGIN:VCALENDAR
VERSION:2.0
PRODID:-//DIOCESI DI ROMA - ECPv4.6.14.1//NONSGML v1.0//EN
CALSCALE:GREGORIAN
METHOD:PUBLISH
X-WR-CALNAME:DIOCESI DI ROMA
X-ORIGINAL-URL:https://www.diocesidiroma.it
X-WR-CALDESC:Eventi per DIOCESI DI ROMA
BEGIN:VEVENT
DTSTART;TZID=Europe/Rome:20230402T000000
DTEND;TZID=Europe/Rome:20230402T000000
DTSTAMP:20260424T125203
CREATED:20230330T095856Z
LAST-MODIFIED:20230330T095856Z
UID:25848-1680393600-1680393600@www.diocesidiroma.it
SUMMARY:Via Crucis della Comunità Indiana di Rito Siromalabarese dalla Basilica di Sant'Anastasia al Colosseo (Uff. Migrantes)
DESCRIPTION:Via Crucis della Comunità Indiana di Rito Siromalabarese dalla Basilica di Sant’Anastasia al Colosseo (Uff. Migrantes) \n
URL:https://www.diocesidiroma.it/event/via-crucis-della-comunita-indiana-di-rito-siromalabarese-dalla-basilica-di-santanastasia-al-colosseo-uff-migrantes/
CATEGORIES:In Diocesi,Iniziative degli Uffici
END:VEVENT
END:VCALENDAR