BEGIN:VCALENDAR
VERSION:2.0
PRODID:-//DIOCESI DI ROMA - ECPv4.6.14.1//NONSGML v1.0//EN
CALSCALE:GREGORIAN
METHOD:PUBLISH
X-WR-CALNAME:DIOCESI DI ROMA
X-ORIGINAL-URL:https://www.diocesidiroma.it
X-WR-CALDESC:Eventi per DIOCESI DI ROMA
BEGIN:VEVENT
DTSTART;VALUE=DATE:20260329
DTEND;VALUE=DATE:20260330
DTSTAMP:20260421T060021
CREATED:20251001T093147Z
LAST-MODIFIED:20251001T093147Z
UID:37551-1774742400-1774828799@www.diocesidiroma.it
SUMMARY:Via Crucis della Comunità Indiana di Rito Siromalabarese dalla Basilica di Sant’Anastasia al Colosseo
DESCRIPTION:Via Crucis della Comunità Indiana di Rito Siromalabarese dalla Basilica di Sant’Anastasia al Colosseo (Uff. Migrantes per la pastorale della mobilità umana) \n
URL:https://www.diocesidiroma.it/event/via-crucis-della-comunita-indiana-di-rito-siromalabarese-dalla-basilica-di-santanastasia-al-colosseo/
CATEGORIES:In Diocesi,Iniziative degli Uffici
END:VEVENT
END:VCALENDAR