BEGIN:VCALENDAR
VERSION:2.0
PRODID:-//DIOCESI DI ROMA - ECPv4.6.14.1//NONSGML v1.0//EN
CALSCALE:GREGORIAN
METHOD:PUBLISH
X-WR-CALNAME:DIOCESI DI ROMA
X-ORIGINAL-URL:https://www.diocesidiroma.it
X-WR-CALDESC:Eventi per DIOCESI DI ROMA
BEGIN:VEVENT
DTSTART;TZID=Europe/Rome:20250328T200000
DTEND;TZID=Europe/Rome:20250328T200000
DTSTAMP:20260420T224844
CREATED:20250321T093304Z
LAST-MODIFIED:20250321T093304Z
UID:34606-1743192000-1743192000@www.diocesidiroma.it
SUMMARY:Via Crucis di Prefettura XXIX
DESCRIPTION:Via Crucis di Prefettura XXIX \n
URL:https://www.diocesidiroma.it/event/via-crucis-di-prefettura-xxix/
CATEGORIES:Vicario Generale
END:VEVENT
END:VCALENDAR