BEGIN:VCALENDAR
VERSION:2.0
PRODID:-//DIOCESI DI ROMA - ECPv4.6.14.1//NONSGML v1.0//EN
CALSCALE:GREGORIAN
METHOD:PUBLISH
X-WR-CALNAME:DIOCESI DI ROMA
X-ORIGINAL-URL:https://www.diocesidiroma.it
X-WR-CALDESC:Eventi per DIOCESI DI ROMA
BEGIN:VEVENT
DTSTART;VALUE=DATE:20240813
DTEND;VALUE=DATE:20240814
DTSTAMP:20260422T100150
CREATED:20240424T143002Z
LAST-MODIFIED:20240424T143002Z
UID:29840-1723507200-1723593599@www.diocesidiroma.it
SUMMARY:Viaggio missionario per gli universitari -  Uff. past. Universitaria
DESCRIPTION:Viaggio missionario per gli universitari –  Uff. past. Universitaria \n
URL:https://www.diocesidiroma.it/event/viaggio-missionario-per-gli-universitari-uff-past-universitaria/2024-08-13/
CATEGORIES:In Diocesi,Iniziative degli Uffici
END:VEVENT
END:VCALENDAR