BEGIN:VCALENDAR
VERSION:2.0
PRODID:-//DIOCESI DI ROMA - ECPv4.6.14.1//NONSGML v1.0//EN
CALSCALE:GREGORIAN
METHOD:PUBLISH
X-WR-CALNAME:DIOCESI DI ROMA
X-ORIGINAL-URL:https://www.diocesidiroma.it
X-WR-CALDESC:Eventi per DIOCESI DI ROMA
BEGIN:VEVENT
DTSTART;TZID=Europe/Rome:20241216T183000
DTEND;TZID=Europe/Rome:20241216T183000
DTSTAMP:20260422T070440
CREATED:20241216T073953Z
LAST-MODIFIED:20241216T073953Z
UID:32550-1734373800-1734373800@www.diocesidiroma.it
SUMMARY:Visita a Santa Maria Assunta e San Giuseppe a Primavalle
DESCRIPTION:Visita a Santa Maria Assunta e San Giuseppe a Primavalle \n
URL:https://www.diocesidiroma.it/event/visita-a-santa-maria-assunta-e-san-giuseppe-a-primavalle/
CATEGORIES:Vicario Generale
END:VEVENT
END:VCALENDAR